BEGIN:VCALENDAR
VERSION:2.0
PRODID:-//Oberschule Hanstedt - ECPv6.15.20//NONSGML v1.0//EN
CALSCALE:GREGORIAN
METHOD:PUBLISH
X-ORIGINAL-URL:https://hrs-hanstedt.de
X-WR-CALDESC:Veranstaltungen für Oberschule Hanstedt
REFRESH-INTERVAL;VALUE=DURATION:PT1H
X-Robots-Tag:noindex
X-PUBLISHED-TTL:PT1H
BEGIN:VTIMEZONE
TZID:Europe/Berlin
BEGIN:DAYLIGHT
TZOFFSETFROM:+0100
TZOFFSETTO:+0200
TZNAME:CEST
DTSTART:20200329T010000
END:DAYLIGHT
BEGIN:STANDARD
TZOFFSETFROM:+0200
TZOFFSETTO:+0100
TZNAME:CET
DTSTART:20201025T010000
END:STANDARD
BEGIN:DAYLIGHT
TZOFFSETFROM:+0100
TZOFFSETTO:+0200
TZNAME:CEST
DTSTART:20210328T010000
END:DAYLIGHT
BEGIN:STANDARD
TZOFFSETFROM:+0200
TZOFFSETTO:+0100
TZNAME:CET
DTSTART:20211031T010000
END:STANDARD
BEGIN:DAYLIGHT
TZOFFSETFROM:+0100
TZOFFSETTO:+0200
TZNAME:CEST
DTSTART:20220327T010000
END:DAYLIGHT
BEGIN:STANDARD
TZOFFSETFROM:+0200
TZOFFSETTO:+0100
TZNAME:CET
DTSTART:20221030T010000
END:STANDARD
END:VTIMEZONE
BEGIN:VEVENT
DTSTART;VALUE=DATE:20210511
DTEND;VALUE=DATE:20210513
DTSTAMP:20260419T211423
CREATED:20210226T090254Z
LAST-MODIFIED:20210226T090254Z
UID:3139-1620691200-1620863999@hrs-hanstedt.de
SUMMARY:Mündliche Prüfung Englisch Kl. 10
DESCRIPTION:
URL:https://hrs-hanstedt.de/event/muendliche-pruefung-englisch-kl-10/
END:VEVENT
BEGIN:VEVENT
DTSTART;VALUE=DATE:20210521
DTEND;VALUE=DATE:20210522
DTSTAMP:20260419T211423
CREATED:20210226T085408Z
LAST-MODIFIED:20210226T085408Z
UID:3132-1621555200-1621641599@hrs-hanstedt.de
SUMMARY:Abschlussarbeit Deutsch Kl. 9+10
DESCRIPTION:
URL:https://hrs-hanstedt.de/event/abschlussarbeit-deutsch-kl-910/
END:VEVENT
BEGIN:VEVENT
DTSTART;VALUE=DATE:20210526
DTEND;VALUE=DATE:20210527
DTSTAMP:20260419T211423
CREATED:20210226T090049Z
LAST-MODIFIED:20210226T090049Z
UID:3137-1621987200-1622073599@hrs-hanstedt.de
SUMMARY:Abschlussarbeit Englisch Kl. 10
DESCRIPTION:
URL:https://hrs-hanstedt.de/event/abschlussarbeit-englisch-kl-10/
END:VEVENT
BEGIN:VEVENT
DTSTART;VALUE=DATE:20210528
DTEND;VALUE=DATE:20210529
DTSTAMP:20260419T211423
CREATED:20210226T085948Z
LAST-MODIFIED:20210226T085948Z
UID:3135-1622160000-1622246399@hrs-hanstedt.de
SUMMARY:Abschlussarbeit Mathematik Kl. 9+10
DESCRIPTION:
URL:https://hrs-hanstedt.de/event/abschlussarbeit-mathematik-kl-910/
END:VEVENT
BEGIN:VEVENT
DTSTART;TZID=Europe/Berlin:20210531T140000
DTEND;TZID=Europe/Berlin:20210531T183000
DTSTAMP:20260419T211423
CREATED:20200930T081452Z
LAST-MODIFIED:20200930T081452Z
UID:2583-1622469600-1622485800@hrs-hanstedt.de
SUMMARY:Anmeldung 5. Klasse Schuljahr 2021/22
DESCRIPTION:
URL:https://hrs-hanstedt.de/event/anmeldung-5-klasse-schuljahr-2021-22/
LOCATION:Sekretariat
END:VEVENT
END:VCALENDAR