BEGIN:VCALENDAR
VERSION:2.0
PRODID:-//Oberschule Hanstedt - ECPv6.15.20//NONSGML v1.0//EN
CALSCALE:GREGORIAN
METHOD:PUBLISH
X-ORIGINAL-URL:https://hrs-hanstedt.de
X-WR-CALDESC:Veranstaltungen für Oberschule Hanstedt
REFRESH-INTERVAL;VALUE=DURATION:PT1H
X-Robots-Tag:noindex
X-PUBLISHED-TTL:PT1H
BEGIN:VTIMEZONE
TZID:Europe/Berlin
BEGIN:DAYLIGHT
TZOFFSETFROM:+0100
TZOFFSETTO:+0200
TZNAME:CEST
DTSTART:20200329T010000
END:DAYLIGHT
BEGIN:STANDARD
TZOFFSETFROM:+0200
TZOFFSETTO:+0100
TZNAME:CET
DTSTART:20201025T010000
END:STANDARD
BEGIN:DAYLIGHT
TZOFFSETFROM:+0100
TZOFFSETTO:+0200
TZNAME:CEST
DTSTART:20210328T010000
END:DAYLIGHT
BEGIN:STANDARD
TZOFFSETFROM:+0200
TZOFFSETTO:+0100
TZNAME:CET
DTSTART:20211031T010000
END:STANDARD
BEGIN:DAYLIGHT
TZOFFSETFROM:+0100
TZOFFSETTO:+0200
TZNAME:CEST
DTSTART:20220327T010000
END:DAYLIGHT
BEGIN:STANDARD
TZOFFSETFROM:+0200
TZOFFSETTO:+0100
TZNAME:CET
DTSTART:20221030T010000
END:STANDARD
END:VTIMEZONE
BEGIN:VEVENT
DTSTART;TZID=Europe/Berlin:20210602T080000
DTEND;TZID=Europe/Berlin:20210602T150000
DTSTAMP:20260419T224114
CREATED:20200930T081549Z
LAST-MODIFIED:20210215T071804Z
UID:2585-1622620800-1622646000@hrs-hanstedt.de
SUMMARY:Anmeldung 5. Klasse Schuljahr 2021/22
DESCRIPTION:
URL:https://hrs-hanstedt.de/event/anmeldung-5-klasse-schuljahr-2021-22-2/
LOCATION:Sekretariat
END:VEVENT
END:VCALENDAR