BEGIN:VCALENDAR
VERSION:2.0
PRODID:-//Oberschule Hanstedt - ECPv6.15.20//NONSGML v1.0//EN
CALSCALE:GREGORIAN
METHOD:PUBLISH
X-WR-CALNAME:Oberschule Hanstedt
X-ORIGINAL-URL:https://hrs-hanstedt.de
X-WR-CALDESC:Veranstaltungen für Oberschule Hanstedt
REFRESH-INTERVAL;VALUE=DURATION:PT1H
X-Robots-Tag:noindex
X-PUBLISHED-TTL:PT1H
BEGIN:VTIMEZONE
TZID:Europe/Berlin
BEGIN:DAYLIGHT
TZOFFSETFROM:+0100
TZOFFSETTO:+0200
TZNAME:CEST
DTSTART:20180325T010000
END:DAYLIGHT
BEGIN:STANDARD
TZOFFSETFROM:+0200
TZOFFSETTO:+0100
TZNAME:CET
DTSTART:20181028T010000
END:STANDARD
BEGIN:DAYLIGHT
TZOFFSETFROM:+0100
TZOFFSETTO:+0200
TZNAME:CEST
DTSTART:20190331T010000
END:DAYLIGHT
BEGIN:STANDARD
TZOFFSETFROM:+0200
TZOFFSETTO:+0100
TZNAME:CET
DTSTART:20191027T010000
END:STANDARD
BEGIN:DAYLIGHT
TZOFFSETFROM:+0100
TZOFFSETTO:+0200
TZNAME:CEST
DTSTART:20200329T010000
END:DAYLIGHT
BEGIN:STANDARD
TZOFFSETFROM:+0200
TZOFFSETTO:+0100
TZNAME:CET
DTSTART:20201025T010000
END:STANDARD
END:VTIMEZONE
BEGIN:VEVENT
DTSTART;TZID=Europe/Berlin:20191120T190000
DTEND;TZID=Europe/Berlin:20191120T203000
DTSTAMP:20260421T191949
CREATED:20191108T070020Z
LAST-MODIFIED:20191108T070020Z
UID:1907-1574276400-1574281800@hrs-hanstedt.de
SUMMARY:Info-Veranstaltung BBS Buchholz und Winsen Jg. 9 und 10
DESCRIPTION:
URL:https://hrs-hanstedt.de/event/info-veranstaltung-bbs-buchholz-und-winsen-jg-9-und-10/
LOCATION:Forum OBS Hanstedt
END:VEVENT
END:VCALENDAR